BEGIN:VCALENDAR
VERSION:2.0
PRODID:-//The Pulse | 104.3 | Central Minnesota Christian Radio | Music with a Message - ECPv6.15.17.1//NONSGML v1.0//EN
CALSCALE:GREGORIAN
METHOD:PUBLISH
X-WR-CALNAME:The Pulse | 104.3 | Central Minnesota Christian Radio | Music with a Message
X-ORIGINAL-URL:https://thepulse.mn
X-WR-CALDESC:Events for The Pulse | 104.3 | Central Minnesota Christian Radio | Music with a Message
REFRESH-INTERVAL;VALUE=DURATION:PT1H
X-Robots-Tag:noindex
X-PUBLISHED-TTL:PT1H
BEGIN:VTIMEZONE
TZID:America/Chicago
BEGIN:DAYLIGHT
TZOFFSETFROM:-0600
TZOFFSETTO:-0500
TZNAME:CDT
DTSTART:20230312T080000
END:DAYLIGHT
BEGIN:STANDARD
TZOFFSETFROM:-0500
TZOFFSETTO:-0600
TZNAME:CST
DTSTART:20231105T070000
END:STANDARD
BEGIN:DAYLIGHT
TZOFFSETFROM:-0600
TZOFFSETTO:-0500
TZNAME:CDT
DTSTART:20240310T080000
END:DAYLIGHT
BEGIN:STANDARD
TZOFFSETFROM:-0500
TZOFFSETTO:-0600
TZNAME:CST
DTSTART:20241103T070000
END:STANDARD
BEGIN:DAYLIGHT
TZOFFSETFROM:-0600
TZOFFSETTO:-0500
TZNAME:CDT
DTSTART:20250309T080000
END:DAYLIGHT
BEGIN:STANDARD
TZOFFSETFROM:-0500
TZOFFSETTO:-0600
TZNAME:CST
DTSTART:20251102T070000
END:STANDARD
END:VTIMEZONE
BEGIN:VEVENT
DTSTART;TZID=America/Chicago:20240214T173000
DTEND;TZID=America/Chicago:20240214T203000
DTSTAMP:20260422T001830
CREATED:20231227T230204Z
LAST-MODIFIED:20231227T230204Z
UID:10000040-1707931800-1707942600@thepulse.mn
SUMMARY:BAY Rally 85
DESCRIPTION:The theme for YFC B.A.Y. Rallies 84\, 85 & 86 is “What If?”It casts a vision\, spurs us on to imagine\, and asks the question: “What if… you were made for more?” \nEach rally features an assortment of original comedy sketches and / or dramas\, interactive videos\, rousing student lead music and a guest speaker.\nEach season\, which is a school year\, follows a theme that ties all the rallies together.\nPre-rally games begin at 5:30 with the rally starting at 6:45. \nMore info at brainerdyfc.com
URL:https://thepulse.mn/event/bay-rally-85/
LOCATION:MN
ATTACH;FMTTYPE=image/png:https://thepulse.mn/wp-content/uploads/Capture-4.png
END:VEVENT
END:VCALENDAR