BEGIN:VCALENDAR
VERSION:2.0
PRODID:-//The Pulse | 104.3 | Central Minnesota Christian Radio | Music with a Message - ECPv6.15.17.1//NONSGML v1.0//EN
CALSCALE:GREGORIAN
METHOD:PUBLISH
X-ORIGINAL-URL:https://thepulse.mn
X-WR-CALDESC:Events for The Pulse | 104.3 | Central Minnesota Christian Radio | Music with a Message
REFRESH-INTERVAL;VALUE=DURATION:PT1H
X-Robots-Tag:noindex
X-PUBLISHED-TTL:PT1H
BEGIN:VTIMEZONE
TZID:America/Chicago
BEGIN:DAYLIGHT
TZOFFSETFROM:-0600
TZOFFSETTO:-0500
TZNAME:CDT
DTSTART:20230312T080000
END:DAYLIGHT
BEGIN:STANDARD
TZOFFSETFROM:-0500
TZOFFSETTO:-0600
TZNAME:CST
DTSTART:20231105T070000
END:STANDARD
BEGIN:DAYLIGHT
TZOFFSETFROM:-0600
TZOFFSETTO:-0500
TZNAME:CDT
DTSTART:20240310T080000
END:DAYLIGHT
BEGIN:STANDARD
TZOFFSETFROM:-0500
TZOFFSETTO:-0600
TZNAME:CST
DTSTART:20241103T070000
END:STANDARD
BEGIN:DAYLIGHT
TZOFFSETFROM:-0600
TZOFFSETTO:-0500
TZNAME:CDT
DTSTART:20250309T080000
END:DAYLIGHT
BEGIN:STANDARD
TZOFFSETFROM:-0500
TZOFFSETTO:-0600
TZNAME:CST
DTSTART:20251102T070000
END:STANDARD
END:VTIMEZONE
BEGIN:VEVENT
DTSTART;VALUE=DATE:20240322
DTEND;VALUE=DATE:20240324
DTSTAMP:20260421T091331
CREATED:20231227T235530Z
LAST-MODIFIED:20231227T235530Z
UID:10000042-1711065600-1711238399@thepulse.mn
SUMMARY:Brainerd Lakes Home Show and Expo
DESCRIPTION:Join us Friday\, March 22 (12PM-7PM) and Saturday\, March 23 (9AM-5PM) for the Brainerd Lakes Home Show & Expo! This LARGER THAN LIFE tradeshow will highlight 150+ regional businesses showcasing their products and services. Hudson Magic will perform 5 FREE shows! PLUS\, enjoy entertainment for the whole family: bounce house\, live shows\, face painting\, children’s play area\, high school building competition\, food vendors\, and much\, much more! \nBrainerdLakesChamber.com/HomeShow
URL:https://thepulse.mn/event/brainerd-lakes-home-show-and-expo/
LOCATION:MN
ATTACH;FMTTYPE=image/jpeg:https://thepulse.mn/wp-content/uploads/406605908_752632190241534_1891935941852904301_n.jpg
END:VEVENT
END:VCALENDAR