BEGIN:VCALENDAR
VERSION:2.0
PRODID:-//The Pulse | 104.3 | Central Minnesota Christian Radio | Music with a Message - ECPv6.15.17.1//NONSGML v1.0//EN
CALSCALE:GREGORIAN
METHOD:PUBLISH
X-ORIGINAL-URL:https://thepulse.mn
X-WR-CALDESC:Events for The Pulse | 104.3 | Central Minnesota Christian Radio | Music with a Message
REFRESH-INTERVAL;VALUE=DURATION:PT1H
X-Robots-Tag:noindex
X-PUBLISHED-TTL:PT1H
BEGIN:VTIMEZONE
TZID:America/Chicago
BEGIN:DAYLIGHT
TZOFFSETFROM:-0600
TZOFFSETTO:-0500
TZNAME:CDT
DTSTART:20230312T080000
END:DAYLIGHT
BEGIN:STANDARD
TZOFFSETFROM:-0500
TZOFFSETTO:-0600
TZNAME:CST
DTSTART:20231105T070000
END:STANDARD
BEGIN:DAYLIGHT
TZOFFSETFROM:-0600
TZOFFSETTO:-0500
TZNAME:CDT
DTSTART:20240310T080000
END:DAYLIGHT
BEGIN:STANDARD
TZOFFSETFROM:-0500
TZOFFSETTO:-0600
TZNAME:CST
DTSTART:20241103T070000
END:STANDARD
BEGIN:DAYLIGHT
TZOFFSETFROM:-0600
TZOFFSETTO:-0500
TZNAME:CDT
DTSTART:20250309T080000
END:DAYLIGHT
BEGIN:STANDARD
TZOFFSETFROM:-0500
TZOFFSETTO:-0600
TZNAME:CST
DTSTART:20251102T070000
END:STANDARD
END:VTIMEZONE
BEGIN:VEVENT
DTSTART;VALUE=DATE:20240426
DTEND;VALUE=DATE:20240428
DTSTAMP:20260421T091311
CREATED:20240320T175617Z
LAST-MODIFIED:20240321T130019Z
UID:10000047-1714089600-1714262399@thepulse.mn
SUMMARY:Off the Rails Market - Northern Pacific Center
DESCRIPTION:Friday\, April 26: Early Access $10\, 6-9pm\nSaturday\, April 27: General Admission $5\, 10am-3pm\n\nEnjoy a variety of live music and shop vendors. Follow Off the Rails Market for updates on our highly anticipated spring shopping extravaganza!\n\nKids activities will also be present. Free entry for kids 10 years old and under.\n\nAt the Northern Pacific Center in Brainerd\nPurchase Tickets HERE
URL:https://thepulse.mn/event/432/
LOCATION:The Northern Pacific Center\, 1511 Northern Pacific Road\, Brainerd\, MN\, 56401\, United States
ATTACH;FMTTYPE=image/jpeg:https://thepulse.mn/wp-content/uploads/OFF-THE-RAILS.jpg
END:VEVENT
END:VCALENDAR