BEGIN:VCALENDAR
VERSION:2.0
PRODID:-//The Pulse | 104.3 | Central Minnesota Christian Radio | Music with a Message - ECPv6.15.17.1//NONSGML v1.0//EN
CALSCALE:GREGORIAN
METHOD:PUBLISH
X-WR-CALNAME:The Pulse | 104.3 | Central Minnesota Christian Radio | Music with a Message
X-ORIGINAL-URL:https://thepulse.mn
X-WR-CALDESC:Events for The Pulse | 104.3 | Central Minnesota Christian Radio | Music with a Message
REFRESH-INTERVAL;VALUE=DURATION:PT1H
X-Robots-Tag:noindex
X-PUBLISHED-TTL:PT1H
BEGIN:VTIMEZONE
TZID:America/Chicago
BEGIN:DAYLIGHT
TZOFFSETFROM:-0600
TZOFFSETTO:-0500
TZNAME:CDT
DTSTART:20240310T080000
END:DAYLIGHT
BEGIN:STANDARD
TZOFFSETFROM:-0500
TZOFFSETTO:-0600
TZNAME:CST
DTSTART:20241103T070000
END:STANDARD
BEGIN:DAYLIGHT
TZOFFSETFROM:-0600
TZOFFSETTO:-0500
TZNAME:CDT
DTSTART:20250309T080000
END:DAYLIGHT
BEGIN:STANDARD
TZOFFSETFROM:-0500
TZOFFSETTO:-0600
TZNAME:CST
DTSTART:20251102T070000
END:STANDARD
BEGIN:DAYLIGHT
TZOFFSETFROM:-0600
TZOFFSETTO:-0500
TZNAME:CDT
DTSTART:20260308T080000
END:DAYLIGHT
BEGIN:STANDARD
TZOFFSETFROM:-0500
TZOFFSETTO:-0600
TZNAME:CST
DTSTART:20261101T070000
END:STANDARD
END:VTIMEZONE
BEGIN:VEVENT
DTSTART;TZID=America/Chicago:20250412T190000
DTEND;TZID=America/Chicago:20250412T210000
DTSTAMP:20260423T061350
CREATED:20250221T165821Z
LAST-MODIFIED:20250221T165821Z
UID:10000092-1744484400-1744491600@thepulse.mn
SUMMARY:Rend Collective - FOLK Tour 2025 coming to Bemidji
DESCRIPTION:Rend Collective \n\nFolk! Tour\n\n\nBemidji High School Auditorium\n\n\n2900 Division St W\nBemidji\, MN 56601\n  \n\n\nGet Tickets HERE\n  \n\n\n$34.71 – $77.97All Ages\n\nTICKET TYPES:\nDeluxe Experience: Deluxe includes first entry into venue and first choice of seating\, meet and greet with band\, early access to merchandise shopping\, & special laminate.\nDeluxe doors open at 5:00 PM. All seating is general admission – first come\, first served. Must arrive by 5:00PM to take advantage of the Deluxe Experience (priority seating not guaranteed after 6:00PM). \nEarly Entry: Early Entry tickets include early entry into the venue to choose premium seating. Early Entry doors open at 6:00PM – must arrive by 6:15PM to be guaranteed premium seating. \nGeneral Admission: General Admission doors open at 6:15PM. All seating is first come\, first served. \nIMPORTANT INFO:  \n\nAll ticket sales are final\nTicket prices are subject to increase at the door\nKids 2 and under are free but must sit on a lap and not take a seat
URL:https://thepulse.mn/event/rend-collective-folk-tour-2025-coming-to-bemidji/
LOCATION:Bemidji High School\, 2900 Division St W\, Bemidji\, MN\, 56601\, United States
ATTACH;FMTTYPE=image/png:https://thepulse.mn/wp-content/uploads/REND-Collective.png
ORGANIZER;CN="Echo Concerts":MAILTO:ticketsupport@echoconcerts.com
END:VEVENT
END:VCALENDAR