BEGIN:VCALENDAR
VERSION:2.0
PRODID:-//The Pulse | 104.3 | Central Minnesota Christian Radio | Music with a Message - ECPv6.15.17.1//NONSGML v1.0//EN
CALSCALE:GREGORIAN
METHOD:PUBLISH
X-WR-CALNAME:The Pulse | 104.3 | Central Minnesota Christian Radio | Music with a Message
X-ORIGINAL-URL:https://thepulse.mn
X-WR-CALDESC:Events for The Pulse | 104.3 | Central Minnesota Christian Radio | Music with a Message
REFRESH-INTERVAL;VALUE=DURATION:PT1H
X-Robots-Tag:noindex
X-PUBLISHED-TTL:PT1H
BEGIN:VTIMEZONE
TZID:America/Chicago
BEGIN:DAYLIGHT
TZOFFSETFROM:-0600
TZOFFSETTO:-0500
TZNAME:CDT
DTSTART:20240310T080000
END:DAYLIGHT
BEGIN:STANDARD
TZOFFSETFROM:-0500
TZOFFSETTO:-0600
TZNAME:CST
DTSTART:20241103T070000
END:STANDARD
BEGIN:DAYLIGHT
TZOFFSETFROM:-0600
TZOFFSETTO:-0500
TZNAME:CDT
DTSTART:20250309T080000
END:DAYLIGHT
BEGIN:STANDARD
TZOFFSETFROM:-0500
TZOFFSETTO:-0600
TZNAME:CST
DTSTART:20251102T070000
END:STANDARD
BEGIN:DAYLIGHT
TZOFFSETFROM:-0600
TZOFFSETTO:-0500
TZNAME:CDT
DTSTART:20260308T080000
END:DAYLIGHT
BEGIN:STANDARD
TZOFFSETFROM:-0500
TZOFFSETTO:-0600
TZNAME:CST
DTSTART:20261101T070000
END:STANDARD
END:VTIMEZONE
BEGIN:VEVENT
DTSTART;TZID=America/Chicago:20250711T070000
DTEND;TZID=America/Chicago:20250711T100000
DTSTAMP:20260420T110603
CREATED:20250327T183309Z
LAST-MODIFIED:20250403T111934Z
UID:10000097-1752217200-1752228000@thepulse.mn
SUMMARY:Remote Fika Friday - High Wheel in Ironton
DESCRIPTION:Join our morning show Remote Fika Friday.\nJuly 11th @ High Wheel in Ironton\n7am – 10 am\nStop by\, get a coffee\, say HI to us\, and grab some Pulse goodies!\nHope to see you there!
URL:https://thepulse.mn/event/remote-fika-friday-high-wheel-in-ironton/
LOCATION:High Wheel\, 236 4th St\, Ironton\, MN\, 56455\, United States
ATTACH;FMTTYPE=image/jpeg:https://thepulse.mn/wp-content/uploads/Fika-Friday-July-11th-2.jpg
ORGANIZER;CN="The Pulse":MAILTO:info@thepulse.mn
END:VEVENT
END:VCALENDAR