BEGIN:VCALENDAR
VERSION:2.0
PRODID:-//The Pulse | 104.3 | Central Minnesota Christian Radio | Music with a Message - ECPv6.15.17.1//NONSGML v1.0//EN
CALSCALE:GREGORIAN
METHOD:PUBLISH
X-ORIGINAL-URL:https://thepulse.mn
X-WR-CALDESC:Events for The Pulse | 104.3 | Central Minnesota Christian Radio | Music with a Message
REFRESH-INTERVAL;VALUE=DURATION:PT1H
X-Robots-Tag:noindex
X-PUBLISHED-TTL:PT1H
BEGIN:VTIMEZONE
TZID:America/Chicago
BEGIN:DAYLIGHT
TZOFFSETFROM:-0600
TZOFFSETTO:-0500
TZNAME:CDT
DTSTART:20240310T080000
END:DAYLIGHT
BEGIN:STANDARD
TZOFFSETFROM:-0500
TZOFFSETTO:-0600
TZNAME:CST
DTSTART:20241103T070000
END:STANDARD
BEGIN:DAYLIGHT
TZOFFSETFROM:-0600
TZOFFSETTO:-0500
TZNAME:CDT
DTSTART:20250309T080000
END:DAYLIGHT
BEGIN:STANDARD
TZOFFSETFROM:-0500
TZOFFSETTO:-0600
TZNAME:CST
DTSTART:20251102T070000
END:STANDARD
BEGIN:DAYLIGHT
TZOFFSETFROM:-0600
TZOFFSETTO:-0500
TZNAME:CDT
DTSTART:20260308T080000
END:DAYLIGHT
BEGIN:STANDARD
TZOFFSETFROM:-0500
TZOFFSETTO:-0600
TZNAME:CST
DTSTART:20261101T070000
END:STANDARD
END:VTIMEZONE
BEGIN:VEVENT
DTSTART;VALUE=DATE:20250715
DTEND;VALUE=DATE:20250718
DTSTAMP:20260422T133109
CREATED:20240506T122950Z
LAST-MODIFIED:20250115T192552Z
UID:10000055-1752537600-1752796799@thepulse.mn
SUMMARY:The Word & The Pulse Share-a-Thon 2025
DESCRIPTION:The Word & The Pulse Share-a-Thon 2025\nComing July 15th\, 16th & 17th\n  \n  \nPartner with us in: \nInvesting in Hope\nInvesting in the lives of others for God’s Kingdom\nInvest in sending the gospel message to central Minnesota and beyond\n 
URL:https://thepulse.mn/event/the-word-the-pulse-share-a-thon-2024/
LOCATION:The Pulse & The Word\, 31287 Brunes Street\, Pequot Lakes\, MN
ATTACH;FMTTYPE=image/jpeg:https://thepulse.mn/wp-content/uploads/Share-a-Thon.jpg
END:VEVENT
END:VCALENDAR