BEGIN:VCALENDAR
VERSION:2.0
PRODID:-//The Pulse | 104.3 | Central Minnesota Christian Radio | Music with a Message - ECPv6.15.17.1//NONSGML v1.0//EN
CALSCALE:GREGORIAN
METHOD:PUBLISH
X-WR-CALNAME:The Pulse | 104.3 | Central Minnesota Christian Radio | Music with a Message
X-ORIGINAL-URL:https://thepulse.mn
X-WR-CALDESC:Events for The Pulse | 104.3 | Central Minnesota Christian Radio | Music with a Message
REFRESH-INTERVAL;VALUE=DURATION:PT1H
X-Robots-Tag:noindex
X-PUBLISHED-TTL:PT1H
BEGIN:VTIMEZONE
TZID:America/Chicago
BEGIN:DAYLIGHT
TZOFFSETFROM:-0600
TZOFFSETTO:-0500
TZNAME:CDT
DTSTART:20240310T080000
END:DAYLIGHT
BEGIN:STANDARD
TZOFFSETFROM:-0500
TZOFFSETTO:-0600
TZNAME:CST
DTSTART:20241103T070000
END:STANDARD
BEGIN:DAYLIGHT
TZOFFSETFROM:-0600
TZOFFSETTO:-0500
TZNAME:CDT
DTSTART:20250309T080000
END:DAYLIGHT
BEGIN:STANDARD
TZOFFSETFROM:-0500
TZOFFSETTO:-0600
TZNAME:CST
DTSTART:20251102T070000
END:STANDARD
BEGIN:DAYLIGHT
TZOFFSETFROM:-0600
TZOFFSETTO:-0500
TZNAME:CDT
DTSTART:20260308T080000
END:DAYLIGHT
BEGIN:STANDARD
TZOFFSETFROM:-0500
TZOFFSETTO:-0600
TZNAME:CST
DTSTART:20261101T070000
END:STANDARD
END:VTIMEZONE
BEGIN:VEVENT
DTSTART;VALUE=DATE:20250927
DTEND;VALUE=DATE:20250928
DTSTAMP:20260421T122012
CREATED:20250819T155142Z
LAST-MODIFIED:20250819T155210Z
UID:10000111-1758931200-1759017599@thepulse.mn
SUMMARY:Run For the Son Faithful 5K\, 10K and Kids Dash
DESCRIPTION:Run for the Son Faithful 5K\, 10K and Kids Dash\nWalk or Run\nThere is a goodie bag for all who register.\nEarly Registration Pricing Ends September 12th… so don’t wait… RUN!
URL:https://thepulse.mn/event/run-for-the-son-faithful-5k-10k-and-kids-dash/
LOCATION:St Andrew’s Catholic Church\, 1108 Willow St\, Brainerd\, MN\, 56401\, United States
ATTACH;FMTTYPE=image/jpeg:https://thepulse.mn/wp-content/uploads/Run-for-the-Sun-Flyer.jpg
END:VEVENT
END:VCALENDAR