BEGIN:VCALENDAR
VERSION:2.0
PRODID:-//The Pulse | 104.3 | Central Minnesota Christian Radio | Music with a Message - ECPv6.15.17.1//NONSGML v1.0//EN
CALSCALE:GREGORIAN
METHOD:PUBLISH
X-WR-CALNAME:The Pulse | 104.3 | Central Minnesota Christian Radio | Music with a Message
X-ORIGINAL-URL:https://thepulse.mn
X-WR-CALDESC:Events for The Pulse | 104.3 | Central Minnesota Christian Radio | Music with a Message
REFRESH-INTERVAL;VALUE=DURATION:PT1H
X-Robots-Tag:noindex
X-PUBLISHED-TTL:PT1H
BEGIN:VTIMEZONE
TZID:America/Chicago
BEGIN:DAYLIGHT
TZOFFSETFROM:-0600
TZOFFSETTO:-0500
TZNAME:CDT
DTSTART:20240310T080000
END:DAYLIGHT
BEGIN:STANDARD
TZOFFSETFROM:-0500
TZOFFSETTO:-0600
TZNAME:CST
DTSTART:20241103T070000
END:STANDARD
BEGIN:DAYLIGHT
TZOFFSETFROM:-0600
TZOFFSETTO:-0500
TZNAME:CDT
DTSTART:20250309T080000
END:DAYLIGHT
BEGIN:STANDARD
TZOFFSETFROM:-0500
TZOFFSETTO:-0600
TZNAME:CST
DTSTART:20251102T070000
END:STANDARD
BEGIN:DAYLIGHT
TZOFFSETFROM:-0600
TZOFFSETTO:-0500
TZNAME:CDT
DTSTART:20260308T080000
END:DAYLIGHT
BEGIN:STANDARD
TZOFFSETFROM:-0500
TZOFFSETTO:-0600
TZNAME:CST
DTSTART:20261101T070000
END:STANDARD
END:VTIMEZONE
BEGIN:VEVENT
DTSTART;TZID=America/Chicago:20251016T103000
DTEND;TZID=America/Chicago:20251016T120000
DTSTAMP:20260420T191601
CREATED:20250425T160238Z
LAST-MODIFIED:20250425T161014Z
UID:10000109-1760610600-1760616000@thepulse.mn
SUMMARY:Ministry Appreciation Brunch
DESCRIPTION:Calling ALL who serve in Ministry\nPastors\, ministry leaders\, and anyone whose vocation is sharing the love and message of Jesus in our community.\n\n\n\n\n\n\nYou are invited to our annual & newly named\n\nMinistry Appreciation Brunch\n\n\n\n  \n\n\n\nThursday\, October 16\, 2025\n\n10:30am-12:00 pm \n\n\nNorthern Pacific Center \n\n\n\n\n\nRSVP by September 26th:\n\n\nwww.ministrybrunch.com\n\n\nor\n\n\ncall 218-568-4422
URL:https://thepulse.mn/event/ministry-appreciation-brunch/
LOCATION:The Northern Pacific Center\, 1511 Northern Pacific Road\, Brainerd\, MN\, 56401\, United States
ATTACH;FMTTYPE=image/jpeg:https://thepulse.mn/wp-content/uploads/2025-Postcard-Invites.jpg
END:VEVENT
END:VCALENDAR