BEGIN:VCALENDAR
VERSION:2.0
PRODID:-//The Pulse | 104.3 | Central Minnesota Christian Radio | Music with a Message - ECPv6.15.17.1//NONSGML v1.0//EN
CALSCALE:GREGORIAN
METHOD:PUBLISH
X-ORIGINAL-URL:https://thepulse.mn
X-WR-CALDESC:Events for The Pulse | 104.3 | Central Minnesota Christian Radio | Music with a Message
REFRESH-INTERVAL;VALUE=DURATION:PT1H
X-Robots-Tag:noindex
X-PUBLISHED-TTL:PT1H
BEGIN:VTIMEZONE
TZID:America/Chicago
BEGIN:DAYLIGHT
TZOFFSETFROM:-0600
TZOFFSETTO:-0500
TZNAME:CDT
DTSTART:20240310T080000
END:DAYLIGHT
BEGIN:STANDARD
TZOFFSETFROM:-0500
TZOFFSETTO:-0600
TZNAME:CST
DTSTART:20241103T070000
END:STANDARD
BEGIN:DAYLIGHT
TZOFFSETFROM:-0600
TZOFFSETTO:-0500
TZNAME:CDT
DTSTART:20250309T080000
END:DAYLIGHT
BEGIN:STANDARD
TZOFFSETFROM:-0500
TZOFFSETTO:-0600
TZNAME:CST
DTSTART:20251102T070000
END:STANDARD
BEGIN:DAYLIGHT
TZOFFSETFROM:-0600
TZOFFSETTO:-0500
TZNAME:CDT
DTSTART:20260308T080000
END:DAYLIGHT
BEGIN:STANDARD
TZOFFSETFROM:-0500
TZOFFSETTO:-0600
TZNAME:CST
DTSTART:20261101T070000
END:STANDARD
END:VTIMEZONE
BEGIN:VEVENT
DTSTART;TZID=America/Chicago:20251214T190000
DTEND;TZID=America/Chicago:20251214T210000
DTSTAMP:20260423T163716
CREATED:20251002T180731Z
LAST-MODIFIED:20251002T180731Z
UID:10000112-1765738800-1765746000@thepulse.mn
SUMMARY:Christmas In The Round
DESCRIPTION:Christmas In The Round – An Intimate Evening of Songs & Stories\nMark Schultz | Aaron Shust | Todd Tilghman (The Voice Season 18 Winner) | Presence Music\n\nGet your tickets here:  https://www.itickets.com/events/483885?fbclid=IwY2xjawNLnlZleHRuA2FlbQIxMABicmlkETFZeGZ2ZnhnRnNta3U0ZTZmAR5qxBjRZJPwJL1UEoaDm83UHHqZBw5jWftAnT747qEawqozC1_5t8rnmm85IA_aem_4FzwQOgfztB4l_Ua1ar8gg
URL:https://thepulse.mn/event/christmas-in-the-round/
LOCATION:Gichi-ziibi Center for the Arts\, 602 S 5th St\, Brainerd\, MN\, 56401\, United States
ATTACH;FMTTYPE=image/jpeg:https://thepulse.mn/wp-content/uploads/Christmas-12-14-25-Brainerd-Square.jpg
ORGANIZER;CN="Thrive Productions Group":MAILTO:dleckie14@gmail.com
END:VEVENT
END:VCALENDAR