BEGIN:VCALENDAR
VERSION:2.0
PRODID:-//The Pulse | 104.3 | Central Minnesota Christian Radio | Music with a Message - ECPv6.15.17.1//NONSGML v1.0//EN
CALSCALE:GREGORIAN
METHOD:PUBLISH
X-ORIGINAL-URL:https://thepulse.mn
X-WR-CALDESC:Events for The Pulse | 104.3 | Central Minnesota Christian Radio | Music with a Message
REFRESH-INTERVAL;VALUE=DURATION:PT1H
X-Robots-Tag:noindex
X-PUBLISHED-TTL:PT1H
BEGIN:VTIMEZONE
TZID:America/Chicago
BEGIN:DAYLIGHT
TZOFFSETFROM:-0600
TZOFFSETTO:-0500
TZNAME:CDT
DTSTART:20250309T080000
END:DAYLIGHT
BEGIN:STANDARD
TZOFFSETFROM:-0500
TZOFFSETTO:-0600
TZNAME:CST
DTSTART:20251102T070000
END:STANDARD
BEGIN:DAYLIGHT
TZOFFSETFROM:-0600
TZOFFSETTO:-0500
TZNAME:CDT
DTSTART:20260308T080000
END:DAYLIGHT
BEGIN:STANDARD
TZOFFSETFROM:-0500
TZOFFSETTO:-0600
TZNAME:CST
DTSTART:20261101T070000
END:STANDARD
BEGIN:DAYLIGHT
TZOFFSETFROM:-0600
TZOFFSETTO:-0500
TZNAME:CDT
DTSTART:20270314T080000
END:DAYLIGHT
BEGIN:STANDARD
TZOFFSETFROM:-0500
TZOFFSETTO:-0600
TZNAME:CST
DTSTART:20271107T070000
END:STANDARD
END:VTIMEZONE
BEGIN:VEVENT
DTSTART;TZID=America/Chicago:20260530T070000
DTEND;TZID=America/Chicago:20260530T170000
DTSTAMP:20260419T083953
CREATED:20251009T194122Z
LAST-MODIFIED:20251009T194252Z
UID:10000117-1780124400-1780160400@thepulse.mn
SUMMARY:MNTC Fishing Challenge
DESCRIPTION:We LOVE the work that Minnesota Adult and Teen Challenge is doing to help people break free from drug and alcohol addiction!\nRegister now for the 18th Annual MN Fishing Challenge on Saturday\, May 30\, 2026 on Gull Lake.  The MN Fishing Challenge\, hosted by Al Lindner\, is a multi-species fundraising tournament. With one entry fee\, 2-person teams may elect to fish any of five divisions: northern pike\, walleye\, bass\, panfish\, or the popular mixed bag division. \nTo support them please click  HERE \n  \n\n\n\n  \n\n 
URL:https://thepulse.mn/event/mntc-fishing-challenge-2/
LOCATION:MN
ATTACH;FMTTYPE=image/png:https://thepulse.mn/wp-content/uploads/MNTC-Fishing.png
END:VEVENT
END:VCALENDAR