BEGIN:VCALENDAR
VERSION:2.0
PRODID:-//The Pulse | 104.3 | Central Minnesota Christian Radio | Music with a Message - ECPv6.15.17.1//NONSGML v1.0//EN
CALSCALE:GREGORIAN
METHOD:PUBLISH
X-ORIGINAL-URL:https://thepulse.mn
X-WR-CALDESC:Events for The Pulse | 104.3 | Central Minnesota Christian Radio | Music with a Message
REFRESH-INTERVAL;VALUE=DURATION:PT1H
X-Robots-Tag:noindex
X-PUBLISHED-TTL:PT1H
BEGIN:VTIMEZONE
TZID:America/Chicago
BEGIN:DAYLIGHT
TZOFFSETFROM:-0600
TZOFFSETTO:-0500
TZNAME:CDT
DTSTART:20250309T080000
END:DAYLIGHT
BEGIN:STANDARD
TZOFFSETFROM:-0500
TZOFFSETTO:-0600
TZNAME:CST
DTSTART:20251102T070000
END:STANDARD
BEGIN:DAYLIGHT
TZOFFSETFROM:-0600
TZOFFSETTO:-0500
TZNAME:CDT
DTSTART:20260308T080000
END:DAYLIGHT
BEGIN:STANDARD
TZOFFSETFROM:-0500
TZOFFSETTO:-0600
TZNAME:CST
DTSTART:20261101T070000
END:STANDARD
BEGIN:DAYLIGHT
TZOFFSETFROM:-0600
TZOFFSETTO:-0500
TZNAME:CDT
DTSTART:20270314T080000
END:DAYLIGHT
BEGIN:STANDARD
TZOFFSETFROM:-0500
TZOFFSETTO:-0600
TZNAME:CST
DTSTART:20271107T070000
END:STANDARD
END:VTIMEZONE
BEGIN:VEVENT
DTSTART;TZID=America/Chicago:20260617T190000
DTEND;TZID=America/Chicago:20260617T210000
DTSTAMP:20260423T124024
CREATED:20260325T150844Z
LAST-MODIFIED:20260325T151322Z
UID:10000138-1781722800-1781730000@thepulse.mn
SUMMARY:Big Daddy Weave: Let It Begin Tour- Brainerd\, MN
DESCRIPTION:Big Daddy Weave: Let It Begin Tourw/ Megan Woods & David LeonardJune 17th | 7:00pmGichi-ziibi Center for the Arts602 S 5th St\, Brainerd\, MN 56401Tickets HERE
URL:https://thepulse.mn/event/big-daddy-weave-let-it-begin-tour-brainerd-mn/
LOCATION:Gichi-ziibi Center for the Arts\, 602 S 5th St\, Brainerd\, MN\, 56401\, United States
ATTACH;FMTTYPE=image/jpeg:https://thepulse.mn/wp-content/uploads/657534089_1372641978233153_4903170809127794901_n.jpg
ORGANIZER;CN="Thrive Productions Group":MAILTO:dleckie14@gmail.com
END:VEVENT
END:VCALENDAR