BEGIN:VCALENDAR
VERSION:2.0
PRODID:-//The Pulse | 104.3 | Central Minnesota Christian Radio | Music with a Message - ECPv6.15.17.1//NONSGML v1.0//EN
CALSCALE:GREGORIAN
METHOD:PUBLISH
X-ORIGINAL-URL:https://thepulse.mn
X-WR-CALDESC:Events for The Pulse | 104.3 | Central Minnesota Christian Radio | Music with a Message
REFRESH-INTERVAL;VALUE=DURATION:PT1H
X-Robots-Tag:noindex
X-PUBLISHED-TTL:PT1H
BEGIN:VTIMEZONE
TZID:America/Chicago
BEGIN:DAYLIGHT
TZOFFSETFROM:-0600
TZOFFSETTO:-0500
TZNAME:CDT
DTSTART:20240310T080000
END:DAYLIGHT
BEGIN:STANDARD
TZOFFSETFROM:-0500
TZOFFSETTO:-0600
TZNAME:CST
DTSTART:20241103T070000
END:STANDARD
BEGIN:DAYLIGHT
TZOFFSETFROM:-0600
TZOFFSETTO:-0500
TZNAME:CDT
DTSTART:20250309T080000
END:DAYLIGHT
BEGIN:STANDARD
TZOFFSETFROM:-0500
TZOFFSETTO:-0600
TZNAME:CST
DTSTART:20251102T070000
END:STANDARD
BEGIN:DAYLIGHT
TZOFFSETFROM:-0600
TZOFFSETTO:-0500
TZNAME:CDT
DTSTART:20260308T080000
END:DAYLIGHT
BEGIN:STANDARD
TZOFFSETFROM:-0500
TZOFFSETTO:-0600
TZNAME:CST
DTSTART:20261101T070000
END:STANDARD
END:VTIMEZONE
BEGIN:VEVENT
DTSTART;VALUE=DATE:20250228
DTEND;VALUE=DATE:20250302
DTSTAMP:20260423T134254
CREATED:20250115T184124Z
LAST-MODIFIED:20250115T184124Z
UID:10000087-1740700800-1740873599@thepulse.mn
SUMMARY:Restored Women's Conference
DESCRIPTION:Ladies\, have you been thinking about coming to the Restored Women’s Conference? We do not want you to miss out on the special early bird pricing! Don’t wait\, sign up today!!\nAll the details and to sign up click here: https://www.iamheritage.org/restored\n\n\n\nWe are so excited to host RESTORED Women’s Conference 2025! We have an amazing weekend planned\, an amazing speaker (Cassie Goossen)\, breakout sessions\, and a sparkle after party you do not want to miss! We are praying this weekend touches your life and you leave blessed and refreshed by Jesus!\n\n(All tickets are final sale\, no refunds)\nhttps://www.iamheritage.org/restored\nIf you need allergy friendly food please send us an email to ensure there is some available for you. alexandrab@heritageagchurch.org.\nConference Schedule:\nFriday5:30pm: Doors open6:30: Main Session 17:30pm: Sparkle After-Party\nSaturday8:30am: Breakfast9:30am: Main Session 211:00am: Breakout Session 112:00pm: Lunch1:15pm: Breakout Session 22:30pm: Main Session 3 \nSee less
URL:https://thepulse.mn/event/restored-womens-conference/
LOCATION:Heritage Church\, 13242 Berrywood Dr\, Baxter\, MN\, 56425\, United States
ATTACH;FMTTYPE=image/jpeg:https://thepulse.mn/wp-content/uploads/472026546_1032773782222211_45761824275847029_n.jpg
ORGANIZER;CN="Heritage Church":MAILTO:office@iamheritage.org
END:VEVENT
BEGIN:VEVENT
DTSTART;VALUE=DATE:20250228
DTEND;VALUE=DATE:20250303
DTSTAMP:20260423T134254
CREATED:20250115T181733Z
LAST-MODIFIED:20250115T181733Z
UID:10000086-1740700800-1740959999@thepulse.mn
SUMMARY:Weekend to Remember
DESCRIPTION:1/2 OFF until 1/20/2025\n  \nTake your marriage to the next level at Family Life’s Weekend to Remember® Marriage Getaway in Minneapolis! This is more than just an escape from your busy schedule for a romantic weekend for you and your spouse. This is your chance to discover exactly how incredible your marriage can be by gaining new insights into God’s perfect plan for married life. At Weekend to Remember\, you’ll learn to connect with your spouse more intimately\, understand God’s blueprints for a wonderful marriage\, and draw from the experience and advice of leading marriage experts. Start making plans for a Weekend to Remember today! \nRegister HERE
URL:https://thepulse.mn/event/weekend-to-remember/
LOCATION:JW Marriott Minneapolis Mall of America\, 2141 Lindau Lane\, Minneapolis\, MN\, United States
ATTACH;FMTTYPE=image/jpeg:https://thepulse.mn/wp-content/uploads/463898764_1104359977715662_7031404916263307430_n.jpg
END:VEVENT
BEGIN:VEVENT
DTSTART;TZID=America/Chicago:20250306T180000
DTEND;TZID=America/Chicago:20250306T200000
DTSTAMP:20260423T134254
CREATED:20250212T185325Z
LAST-MODIFIED:20250217T224504Z
UID:10000090-1741284000-1741291200@thepulse.mn
SUMMARY:FREE Concert!  Presence Music Band & Joel Vaughn
DESCRIPTION:Join us for an awesome evening! Joel is a national recording artist from Dream Records all the way from Nashville\, and has been featured on Klove and TBN as well as The Pulse of course. Presence Music Band is local to northern MN but travels all over the Midwest and beyond! Don’t miss out on two great artists bringing acoustic pop-worship. \nFree event but a free will offering will be taken to bless their ministry. And Pulse FM will be MCing and have a table! \nClick HERE for more details
URL:https://thepulse.mn/event/free-concert-presence-music-band-joel-vaughn/
LOCATION:Community of Hope Church of the Nazarene\, 16549 Johnson Rd\, Brainerd\, MN\, 56401\, United States
ATTACH;FMTTYPE=image/jpeg:https://thepulse.mn/wp-content/uploads/475807710_18481555870040380_2303101252370231419_n.jpg
ORGANIZER;CN="Community of Hope Church of the Nazarene":MAILTO:officebnaz@gmail.com
END:VEVENT
BEGIN:VEVENT
DTSTART;VALUE=DATE:20250312
DTEND;VALUE=DATE:20250314
DTSTAMP:20260423T134254
CREATED:20250303T170517Z
LAST-MODIFIED:20250303T174947Z
UID:10000093-1741737600-1741910399@thepulse.mn
SUMMARY:OneChild Radio Event
DESCRIPTION:You can make a difference around the world! \nWe invite you to sponsor a child through our partnership with OneChild. As a sponsor you’ll be part of a global community of Child Champions\, bringing hope to children in some of the world’s hardest places. Your sponsorship will provide holistic care so your sponsored child can overcome barriers and thrive. \nOneChild serves more than 40\,000 children around the world. They work in many of the hardest places. \nPlaces where others can’t go.\nPlaces where Christians can be persecuted.\nPlaces where gang violence is rampant.\nPlaces where people have been forgotten.\nPlaces where children are suffering.\nPlaces where kids need help the most. \nOur afternoon host and Program Director on The Pulse Dave Wonders\, traveled to Nicaragua with OneChild recently. \nSee what Dave has to say: \n I recently had the privilege of visiting OneChild’s Hope Centers in Nicaragua\, where I met some incredible kids. Each one is uniquely gifted by God and full of potential to become a world-changer. But these children and children just like them around the world need your help to thrive. \nFor just $44 a month\, you can provide a child living in poverty with nutritious food\, educational support\, medical care\, and—most importantly—the opportunity to discover the hope and love of Jesus Christ. Your sponsorship can transform the life of one child\, and in the process\, God may use that child to transform your life as well.  \n  \nOneChild brings hope to the children in need through four vital tools: faith\, education\, health\, and relationships. Each child is given a voice and gets to have individualized care in all these areas in order to build up a strong community and Church presence for generations. \nJoin us March 12th & Marth 13th \nas we host a radio event to focus of these children.\nDon’t Wait!  Click Below.\n Pulse OneChild Page\n Word OneChild Page
URL:https://thepulse.mn/event/one-child-radio-event/
LOCATION:The Pulse & The Word\, 31287 Brunes Street\, Pequot Lakes\, MN
ATTACH;FMTTYPE=image/png:https://thepulse.mn/wp-content/uploads/Untitled-1.png
END:VEVENT
BEGIN:VEVENT
DTSTART;VALUE=DATE:20250315
DTEND;VALUE=DATE:20250316
DTSTAMP:20260423T134254
CREATED:20231228T000204Z
LAST-MODIFIED:20250114T191514Z
UID:10000043-1741996800-1742083199@thepulse.mn
SUMMARY:St. Patrick's Day Parade & Celebration in Crosslake
DESCRIPTION:For 51 years\, Crosslake has been celebrating the coming of Spring with a St Patrick’s Day Parade. What started out in the 70’s as a remedy for Cabin Fever\, has grown into a destination event for thousands of green-clad\, Irish-for-a-day\, weekend enthusiasts. Some build a float and travel the 2-mile-long route tossing hundreds of pounds of candy and trinkets\, and others set up lawn chairs\, days in advance to get ”their perfect spot” for family and friends. While the parade is the highlight\, the celebration begins days before as we sweep the streets of snow\, adorn our shops in green and pre-game with a Treasure Hunt\, Live Music\, the Clover Dash 5K and more! Mark your calendars for March 14-16\, 2024 and see for yourself why the Crosslake St. Patrick’s Day Parade & Celebration has been declared the Best of the Brainerd Lakes AND the Best in the State!
URL:https://thepulse.mn/event/50th-annual-st-patricks-day-parade-celebration-in-crosslake/
LOCATION:Crosslake\, MN\, Crosslake\, MN\, United States
ATTACH;FMTTYPE=image/jpeg:https://thepulse.mn/wp-content/uploads/473572983_1009820417837638_4626095329653746027_n.jpg
END:VEVENT
BEGIN:VEVENT
DTSTART;VALUE=DATE:20250321
DTEND;VALUE=DATE:20250323
DTSTAMP:20260423T134254
CREATED:20241219T175924Z
LAST-MODIFIED:20241219T175924Z
UID:10000081-1742515200-1742687999@thepulse.mn
SUMMARY:2025 Brainerd Lakes Home Show & Expo
DESCRIPTION:Friday\, March 21\, 2025 12:00 PM – Saturday\, March 22\, 2025 5:00 PM (CDT)\nEssentia Health Sports Center\, Brainerd\nA Larger Than Life Community Tradeshow!\n  \nFriday\, March 21\, 2025\n12PM-7PM  \n\nAll Day // 160+ Exhibitors.\nAll Day // Food Vendors.\nAll Day // FREE bounce house in the Children’s Play Area by TBD\nAll Day // Pop Up Brewery. Sponsored by TBD.\nAll Day // Lakes Proud Stamp Card\nAll Day // Career Expo. Exhibitors will have information for employment opportunities and will be accepting applications.\n3:00-5:00PM // Large building blocks for creative play in the Children’s Play Area. Sponsored by TBD\n5PM // Meet Bob the Builder in the Children’s Play Area and walking around the arenas\n3-7PM // FREE face painting for children by TBD\n4PM // Live Entertainment\n6PM // Live Entertainment\n\nSaturday\, March 22\, 2025\n9AM-5PM  \n\nAll Day // 160+ Exhibitors.\nAll Day // Food Vendors.\nAll Day // FREE bounce house in the Children’s Play Area by TBD\nAll Day // Face painting & glitter tattoos for children by TBD (cost $5 or more).\nAll Day // Lakes Proud Stamp Card\nAll Day // Career Expo. Exhibitors will have information for employment opportunities and will be accepting applications.\n10AM-11AM // Kid’s Building sponsored by TBD (available until kits are gone)\n10AM // Meet Bob the Builder in the Children’s Play Area.\n11AM // Live Entertainment (TBD)\n11:30AM-12PM // Kid’s Donut Decorating sponsored by TBD\n12PM-5PM // Giant Legos for creative play in the Children’s Play Area. Sponsored by TBD\n12PM // Meet Bob the Builder in the Children’s Play Area.\n1PM // Live Entertainment (TBD)\n2PM // Meet Bob the Builder in the Children’s Play Area.\n3PM // Live Entertainment (TBD)\n\nLIVE ENTERTAINMENT (TBD): FREE WITH ADMISSION! \nShow Times: \n\nFriday\, March 22: 4PM and 6PM\nSaturday\, March 23: 11AM\, 1PM\, and 3PM\n\nSponsored By (TBD) \n\nKID’S PLAY AREA \nBring the kids to the Kid’s Play Area and enjoy some indoor fun! Sponsored by TBD\, the Kid’s Play Area is sure to keep the little ones in your group preoccupied with lots of fun activities. \n\nFREE bounce house by TBD\nFace painting & glitter tattoos by TBD\nMeet Bob the Builder: Friday 5PM and Saturday 10AM\, 12PM and 2PM\nLarge building blocks and giant Legos for creative play\n\n  \nFor more information click HERE
URL:https://thepulse.mn/event/2025-brainerd-lakes-home-show-expo/
LOCATION:Essentia Health Sports Center\, 502 Jackson Street\, Brainerd\, MN\, 56401\, United States
ATTACH;FMTTYPE=image/png:https://thepulse.mn/wp-content/uploads/BrainerdLakesHomeShowAndExpo-2025-PromoGraphic-1920x1080-V02.png
ORGANIZER;CN="Brainerd Lakes Chamber of Commerce":MAILTO:infostaff@explorebrainerdlakes.com
END:VEVENT
END:VCALENDAR