BEGIN:VCALENDAR
VERSION:2.0
PRODID:-//The Pulse | 104.3 | Central Minnesota Christian Radio | Music with a Message - ECPv6.15.17.1//NONSGML v1.0//EN
CALSCALE:GREGORIAN
METHOD:PUBLISH
X-WR-CALNAME:The Pulse | 104.3 | Central Minnesota Christian Radio | Music with a Message
X-ORIGINAL-URL:https://thepulse.mn
X-WR-CALDESC:Events for The Pulse | 104.3 | Central Minnesota Christian Radio | Music with a Message
REFRESH-INTERVAL;VALUE=DURATION:PT1H
X-Robots-Tag:noindex
X-PUBLISHED-TTL:PT1H
BEGIN:VTIMEZONE
TZID:America/Chicago
BEGIN:DAYLIGHT
TZOFFSETFROM:-0600
TZOFFSETTO:-0500
TZNAME:CDT
DTSTART:20240310T080000
END:DAYLIGHT
BEGIN:STANDARD
TZOFFSETFROM:-0500
TZOFFSETTO:-0600
TZNAME:CST
DTSTART:20241103T070000
END:STANDARD
BEGIN:DAYLIGHT
TZOFFSETFROM:-0600
TZOFFSETTO:-0500
TZNAME:CDT
DTSTART:20250309T080000
END:DAYLIGHT
BEGIN:STANDARD
TZOFFSETFROM:-0500
TZOFFSETTO:-0600
TZNAME:CST
DTSTART:20251102T070000
END:STANDARD
BEGIN:DAYLIGHT
TZOFFSETFROM:-0600
TZOFFSETTO:-0500
TZNAME:CDT
DTSTART:20260308T080000
END:DAYLIGHT
BEGIN:STANDARD
TZOFFSETFROM:-0500
TZOFFSETTO:-0600
TZNAME:CST
DTSTART:20261101T070000
END:STANDARD
END:VTIMEZONE
BEGIN:VEVENT
DTSTART;TZID=America/Chicago:20250604T120000
DTEND;TZID=America/Chicago:20250604T170000
DTSTAMP:20260420T175225
CREATED:20250411T181757Z
LAST-MODIFIED:20250411T182110Z
UID:10000104-1749038400-1749056400@thepulse.mn
SUMMARY:Afternoon Road Trip (w/ Dave & Aaron) - Staples Dairy Queen
DESCRIPTION:Dave and Aaron will be on location\nfrom 12 to 5 at the Staples Dairy Queen!\nHope to see you there!\nStop by to say hi and to score some swag 🙂\n 
URL:https://thepulse.mn/event/afternoon-road-trip-w-dave-aaron-aitkin-county-fair/
LOCATION:Staples Dairy Queen\, 1100 2nd Ave NE\, Stapels\, 56479\, United States
ATTACH;FMTTYPE=image/jpeg:https://thepulse.mn/wp-content/uploads/Staples.jpg
ORGANIZER;CN="The Pulse":MAILTO:info@thepulse.mn
END:VEVENT
BEGIN:VEVENT
DTSTART;TZID=America/Chicago:20250606T070000
DTEND;TZID=America/Chicago:20250606T100000
DTSTAMP:20260420T175225
CREATED:20250327T175345Z
LAST-MODIFIED:20250403T112056Z
UID:10000095-1749193200-1749204000@thepulse.mn
SUMMARY:Remote Fika Friday - Lucy's in Little Falls
DESCRIPTION:Join our morning show Remote Fika Friday.\nJune 6th @ Lucy’s in Little Falls\n7am – 10 am\nStop by\, get a coffee\, say HI to us\, and grab some Pulse goodies!\nHope to see you there!
URL:https://thepulse.mn/event/remote-fika-friday-lucys-in-little-falls/
LOCATION:Lucy’s\, 500 East Broadway\, Little Falls\, 56345\, United States
ATTACH;FMTTYPE=image/jpeg:https://thepulse.mn/wp-content/uploads/Fika-Friday-June-6th-2.jpg
ORGANIZER;CN="The Pulse":MAILTO:info@thepulse.mn
END:VEVENT
BEGIN:VEVENT
DTSTART;TZID=America/Chicago:20250611T120000
DTEND;TZID=America/Chicago:20250611T170000
DTSTAMP:20260420T175225
CREATED:20250401T180414Z
LAST-MODIFIED:20250411T181014Z
UID:10000100-1749643200-1749661200@thepulse.mn
SUMMARY:Afternoon Road Trip (w/ Dave & Aaron) - Nisswa
DESCRIPTION:Dave and Aaron will be on location\nfrom 12 to 5 at the Nisswa pavilion!\nWe will also be there for the turtle races  as well … see you there!\nStop by to say hi and to score some swag 🙂\n 
URL:https://thepulse.mn/event/pulse-remote-nisswa-2/
LOCATION:CIty of Nisswa\, Nisswa\, MN\, 56468\, United States
ATTACH;FMTTYPE=image/jpeg:https://thepulse.mn/wp-content/uploads/NISSWA-2.jpg
ORGANIZER;CN="The Pulse":MAILTO:info@thepulse.mn
END:VEVENT
BEGIN:VEVENT
DTSTART;VALUE=DATE:20250612
DTEND;VALUE=DATE:20250613
DTSTAMP:20260420T175225
CREATED:20250114T192126Z
LAST-MODIFIED:20250212T180708Z
UID:10000084-1749686400-1749772799@thepulse.mn
SUMMARY:Prayer & Praise Day Coming!  Thursday\, June 12th\, 2025
DESCRIPTION:Our Next Prayer and Praise Day will be Thursday\, June 12th\, 2025.\nPrayer and Praise Day is a special time we do\, 3x’s a year (Feb\, June\, Oct)\, when we set aside our regular programming to focus on you\, our valued listeners. We invite local pastors and prayer teams to join us in lifting your needs and concerns in prayer\, offering spiritual support and encouragement.
URL:https://thepulse.mn/event/prayer-praise-day-coming-tuesday-june-3rd-2025/
LOCATION:MN
ATTACH;FMTTYPE=image/jpeg:https://thepulse.mn/wp-content/uploads/Prayer-and-Praise-June-2025.jpg
END:VEVENT
BEGIN:VEVENT
DTSTART;TZID=America/Chicago:20250619T160000
DTEND;TZID=America/Chicago:20250619T190000
DTSTAMP:20260420T175225
CREATED:20250108T195317Z
LAST-MODIFIED:20250410T135904Z
UID:10000082-1750348800-1750359600@thepulse.mn
SUMMARY:Listener Appreciation Picnic - SAVE THE DATE
DESCRIPTION:Thank you to all the business who are coming on board so far\nto help make this day amazing for our listeners:\n  \nPequot Lakes Baptist Church/Trailside Center (allowing us to use their center for the event)\nWonderTrek Children’s Museum (bringing their mobile unit)\nLakes Printing (helping us with signs)\nCamp JIM (helping us with games & Face Painting)\nLakes Party and Bounce (for bringing all the bouncing fun)\nKD Kettle Corn & Kim’s Cotton Candy Creations  (for donating a bag of kettle corn per family that day & will bring their food truck if you like to buy more to take home or buy some cotton candy)\nTrue North Ranch Ministries (bringing horses and having horse painting available)\nSilent Shout Productions (for taking amazing photos for us again this year)\n  \n  \n  \nKeep checking back\, as we know who else wants to contribute\, we will update here for you. \nGet excited for June 19th!
URL:https://thepulse.mn/event/listener-appreciation-picnic-save-the-date/
LOCATION:Trailside Center\, 30050 Rasmussen Rd\, Pequot Lakes\, MN\, 56472\, United States
ATTACH;FMTTYPE=image/jpeg:https://thepulse.mn/wp-content/uploads/LAP-Businesses-that-will-Help-5.jpg
END:VEVENT
BEGIN:VEVENT
DTSTART;TZID=America/Chicago:20250621T120000
DTEND;TZID=America/Chicago:20250621T160000
DTSTAMP:20260420T175225
CREATED:20250612T181059Z
LAST-MODIFIED:20250612T181059Z
UID:10000110-1750507200-1750521600@thepulse.mn
SUMMARY:Recovery Connection BBQ Fundraiser
DESCRIPTION:Food\nFamily \nFun\nGames\nPrizes
URL:https://thepulse.mn/event/recovery-connection-bbq-fundraiser/
LOCATION:Lighthouse Beginnings\, 8055 Industrial Park Rd\, Baxter\, MN\, 56425\, United States
ATTACH;FMTTYPE=image/jpeg:https://thepulse.mn/wp-content/uploads/505064161_1125281546305106_6914628009072343762_n-scaled.jpg
ORGANIZER;CN="Lighthouse Beginnings":MAILTO:info@lighthb.org
END:VEVENT
BEGIN:VEVENT
DTSTART;TZID=America/Chicago:20250625T120000
DTEND;TZID=America/Chicago:20250625T170000
DTSTAMP:20260420T175225
CREATED:20250411T181438Z
LAST-MODIFIED:20250411T181438Z
UID:10000103-1750852800-1750870800@thepulse.mn
SUMMARY:Afternoon Road Trip (w/ Dave & Aaron) - Pine River Dam
DESCRIPTION:Dave and Aaron will be on location\nfrom 12 to 5 at the Pine River Dam!\nHope to see you there!\nStop by to say hi and to score some swag 🙂\n 
URL:https://thepulse.mn/event/afternoon-road-trip-w-dave-aaron-pine-river-dam/
LOCATION:Pine River Dam\, Pine River\, United States
ATTACH;FMTTYPE=image/jpeg:https://thepulse.mn/wp-content/uploads/Pine-River.jpg
ORGANIZER;CN="The Pulse":MAILTO:info@thepulse.mn
END:VEVENT
END:VCALENDAR